Workbook

Sheet Complete sheet calculation
B2: Name | C2: Where | D2: Efficiency | E2: Sustainability | F2: Digital | G2: B1 | H2: B2 | I2: B3 | J2: B4 | K2: B5 | L2: B6 | M2: B9 | N2: B10 | O2: B11 | P2: B12 | Q2: B13 | R2: B14 | S2: B16 | T2: B17 | U2: B18 | V2: B19 | W2: B20 | X2: B21 | Y2: Total score | Z2: Final score
B3: SLAGER Group Logistiek | C3: Corridor | D3: 2 | E3: 3 | F3: 1 | G3: =IF(C3=$C$15,2,1)*(IF($G$15=1,($D$15*D3)+($E$15*E3)+($F$15*F3),0)) -> 16 | H3: =IF(C3=$C$16,2,1)*IF($G$16=1,($D$16*D3)+($E$16*E3)+($F$16*F3),0) -> 18 | I3: =IF(C3=$C$17,2,1)*IF($G$17=1,($D$17*D3)+($E$17*E3)+($F$17*F3),0) -> 12 | J3: =IF(C3=$C$18,2,1)*IF($G$18=1,($D$18*D3)+($E$18*E3)+($F$18*F3),0) -> 8 | K3: =IF(C3=$C$19,2,1)*IF($G$19=1,($D$19*D3)+($E$19*E3)+($F$19*F3),0) -> 14 | L3: =IF(C3=$C$20,2,1)*IF($G$20=1,($D$20*D3)+($E$20*E3)+($F$20*F3),0) -> 12 | M3: =IF(C3=$C$21,2,1)*IF($G$21=1,($D$21*D3)+($E$21*E3)+($F$21*F3),0) -> 4 | N3: =IF(C3=$C$22,2,1)*IF($G$22=1,($D$22*D3)+($E$22*E3)+($F$22*F3),0) -> 9 | O3: =IF(C3=$C$23,2,1)*IF($G$23=1,($D$23*D3)+($E$23*E3)+($F$23*F3),0) -> 9 | P3: =IF(C3=$C$24,2,1)*IF($G$24=1,($D$24*D3)+($E$24*E3)+($F$24*F3),0) -> 6 | Q3: =IF(C3=$C$25,2,1)*IF($G$25=1,($D$25*D3)+($E$25*E3)+($F$25*F3),0) -> 9 | R3: =IF(C3=$C$26,2,1)*IF($G$26=1,($D$26*D3)+($E$26*E3)+($F$26*F3),0) -> 3 | S3: =IF(C3=$C$27,2,1)*IF($G$27=1,($D$27*D3)+($E$27*E3)+($F$27*F3),0) -> 8 | T3: =IF(C3=$C$28,2,1)*IF($G$28=1,($D$28*D3)+($E$28*E3)+($F$28*F3),0) -> 4 | U3: =IF(C3=$C$29,2,1)*IF($G$29=1,($D$29*D3)+($E$29*E3)+($F$29*F3),0) -> 6 | V3: =IF(C3=$C$30,2,1)*IF($G$30=1,($D$30*D3)+($E$30*E3)+($F$30*F3),0) -> 3 | W3: =IF(C3=$C$31,2,1)*IF($G$31=1,($D$31*D3)+($E$31*E3)+($F$31*F3),0) -> 9 | X3: =IF(C3=$C32,2,1)*IF($G$32=1,($D$32*D3)+($E$32*E3)+($F$32*F3),0) -> 3 | Y3: =SUM(G3:X3) -> 153 | Z3: =(Y3/153)*100 -> 100
B4: HDL | C4: Corridor | D4: 2 | E4: 3 | F4: 1 | G4: =IF(C4=$C$15,2,1)*(IF($G$15=1,($D$15*D4)+($E$15*E4)+($F$15*F4),0)) -> 16 | H4: =IF(C4=$C$16,2,1)*IF($G$16=1,($D$16*D4)+($E$16*E4)+($F$16*F4),0) -> 18 | I4: =IF(C4=$C$17,2,1)*IF($G$17=1,($D$17*D4)+($E$17*E4)+($F$17*F4),0) -> 12 | J4: =IF(C4=$C$18,2,1)*IF($G$18=1,($D$18*D4)+($E$18*E4)+($F$18*F4),0) -> 8 | K4: =IF(C4=$C$19,2,1)*IF($G$19=1,($D$19*D4)+($E$19*E4)+($F$19*F4),0) -> 14 | L4: =IF(C4=$C$20,2,1)*IF($G$20=1,($D$20*D4)+($E$20*E4)+($F$20*F4),0) -> 12 | M4: =IF(C4=$C$21,2,1)*IF($G$21=1,($D$21*D4)+($E$21*E4)+($F$21*F4),0) -> 4 | N4: =IF(C4=$C$22,2,1)*IF($G$22=1,($D$22*D4)+($E$22*E4)+($F$22*F4),0) -> 9 | O4: =IF(C4=$C$23,2,1)*IF($G$23=1,($D$23*D4)+($E$23*E4)+($F$23*F4),0) -> 9 | P4: =IF(C4=$C$24,2,1)*IF($G$24=1,($D$24*D4)+($E$24*E4)+($F$24*F4),0) -> 6 | Q4: =IF(C4=$C$25,2,1)*IF($G$25=1,($D$25*D4)+($E$25*E4)+($F$25*F4),0) -> 9 | R4: =IF(C4=$C$26,2,1)*IF($G$26=1,($D$26*D4)+($E$26*E4)+($F$26*F4),0) -> 3 | S4: =IF(C4=$C$27,2,1)*IF($G$27=1,($D$27*D4)+($E$27*E4)+($F$27*F4),0) -> 8 | T4: =IF(C4=$C$28,2,1)*IF($G$28=1,($D$28*D4)+($E$28*E4)+($F$28*F4),0) -> 4 | U4: =IF(C4=$C$29,2,1)*IF($G$29=1,($D$29*D4)+($E$29*E4)+($F$29*F4),0) -> 6 | V4: =IF(C4=$C$30,2,1)*IF($G$30=1,($D$30*D4)+($E$30*E4)+($F$30*F4),0) -> 3 | W4: =IF(C4=$C$31,2,1)*IF($G$31=1,($D$31*D4)+($E$31*E4)+($F$31*F4),0) -> 9 | X4: =IF(C4=$C33,2,1)*IF($G$32=1,($D$32*D4)+($E$32*E4)+($F$32*F4),0) -> 3 | Y4: =SUM(G4:X4) -> 153 | Z4: =(Y4/153)*100 -> 100
B5: COLD RAIL | C5: Corridor | D5: 1 | E5: 4 | F5: 1 | G5: =IF(C5=$C$15,2,1)*(IF($G$15=1,($D$15*D5)+($E$15*E5)+($F$15*F5),0)) -> 18 | H5: =IF(C5=$C$16,2,1)*IF($G$16=1,($D$16*D5)+($E$16*E5)+($F$16*F5),0) -> 24 | I5: =IF(C5=$C$17,2,1)*IF($G$17=1,($D$17*D5)+($E$17*E5)+($F$17*F5),0) -> 6 | J5: =IF(C5=$C$18,2,1)*IF($G$18=1,($D$18*D5)+($E$18*E5)+($F$18*F5),0) -> 6 | K5: =IF(C5=$C$19,2,1)*IF($G$19=1,($D$19*D5)+($E$19*E5)+($F$19*F5),0) -> 12 | L5: =IF(C5=$C$20,2,1)*IF($G$20=1,($D$20*D5)+($E$20*E5)+($F$20*F5),0) -> 6 | M5: =IF(C5=$C$21,2,1)*IF($G$21=1,($D$21*D5)+($E$21*E5)+($F$21*F5),0) -> 3 | N5: =IF(C5=$C$22,2,1)*IF($G$22=1,($D$22*D5)+($E$22*E5)+($F$22*F5),0) -> 12 | O5: =IF(C5=$C$23,2,1)*IF($G$23=1,($D$23*D5)+($E$23*E5)+($F$23*F5),0) -> 12 | P5: =IF(C5=$C$24,2,1)*IF($G$24=1,($D$24*D5)+($E$24*E5)+($F$24*F5),0) -> 3 | Q5: =IF(C5=$C$25,2,1)*IF($G$25=1,($D$25*D5)+($E$25*E5)+($F$25*F5),0) -> 12 | R5: =IF(C5=$C$26,2,1)*IF($G$26=1,($D$26*D5)+($E$26*E5)+($F$26*F5),0) -> 3 | S5: =IF(C5=$C$27,2,1)*IF($G$27=1,($D$27*D5)+($E$27*E5)+($F$27*F5),0) -> 9 | T5: =IF(C5=$C$28,2,1)*IF($G$28=1,($D$28*D5)+($E$28*E5)+($F$28*F5),0) -> 3 | U5: =IF(C5=$C$29,2,1)*IF($G$29=1,($D$29*D5)+($E$29*E5)+($F$29*F5),0) -> 3 | V5: =IF(C5=$C$30,2,1)*IF($G$30=1,($D$30*D5)+($E$30*E5)+($F$30*F5),0) -> 3 | W5: =IF(C5=$C$31,2,1)*IF($G$31=1,($D$31*D5)+($E$31*E5)+($F$31*F5),0) -> 12 | X5: =IF(C5=$C34,2,1)*IF($G$32=1,($D$32*D5)+($E$32*E5)+($F$32*F5),0) -> 3 | Y5: =SUM(G5:X5) -> 150 | Z5: =(Y5/150)*100 -> 100
B6: CONTIGO | C6: Corridor | D6: 3 | E6: 2 | F6: 1 | G6: =IF(C6=$C$15,2,1)*(IF($G$15=1,($D$15*D6)+($E$15*E6)+($F$15*F6),0)) -> 14 | H6: =IF(C6=$C$16,2,1)*IF($G$16=1,($D$16*D6)+($E$16*E6)+($F$16*F6),0) -> 12 | I6: =IF(C6=$C$17,2,1)*IF($G$17=1,($D$17*D6)+($E$17*E6)+($F$17*F6),0) -> 18 | J6: =IF(C6=$C$18,2,1)*IF($G$18=1,($D$18*D6)+($E$18*E6)+($F$18*F6),0) -> 10 | K6: =IF(C6=$C$19,2,1)*IF($G$19=1,($D$19*D6)+($E$19*E6)+($F$19*F6),0) -> 16 | L6: =IF(C6=$C$20,2,1)*IF($G$20=1,($D$20*D6)+($E$20*E6)+($F$20*F6),0) -> 18 | M6: =IF(C6=$C$21,2,1)*IF($G$21=1,($D$21*D6)+($E$21*E6)+($F$21*F6),0) -> 5 | N6: =IF(C6=$C$22,2,1)*IF($G$22=1,($D$22*D6)+($E$22*E6)+($F$22*F6),0) -> 6 | O6: =IF(C6=$C$23,2,1)*IF($G$23=1,($D$23*D6)+($E$23*E6)+($F$23*F6),0) -> 6 | P6: =IF(C6=$C$24,2,1)*IF($G$24=1,($D$24*D6)+($E$24*E6)+($F$24*F6),0) -> 9 | Q6: =IF(C6=$C$25,2,1)*IF($G$25=1,($D$25*D6)+($E$25*E6)+($F$25*F6),0) -> 6 | R6: =IF(C6=$C$26,2,1)*IF($G$26=1,($D$26*D6)+($E$26*E6)+($F$26*F6),0) -> 3 | S6: =IF(C6=$C$27,2,1)*IF($G$27=1,($D$27*D6)+($E$27*E6)+($F$27*F6),0) -> 7 | T6: =IF(C6=$C$28,2,1)*IF($G$28=1,($D$28*D6)+($E$28*E6)+($F$28*F6),0) -> 5 | U6: =IF(C6=$C$29,2,1)*IF($G$29=1,($D$29*D6)+($E$29*E6)+($F$29*F6),0) -> 9 | V6: =IF(C6=$C$30,2,1)*IF($G$30=1,($D$30*D6)+($E$30*E6)+($F$30*F6),0) -> 3 | W6: =IF(C6=$C$31,2,1)*IF($G$31=1,($D$31*D6)+($E$31*E6)+($F$31*F6),0) -> 6 | X6: =IF(C6=$C35,2,1)*IF($G$32=1,($D$32*D6)+($E$32*E6)+($F$32*F6),0) -> 3 | Y6: =SUM(G6:X6) -> 156 | Z6: =(Y6/156)*100 -> 100
B7: SLOGRI Food | C7: Inland | D7: 3 | E7: 2 | F7: 1 | G7: =IF(C7=$C$15,2,1)*(IF($G$15=1,($D$15*D7)+($E$15*E7)+($F$15*F7),0)) -> 7 | H7: =IF(C7=$C$16,2,1)*IF($G$16=1,($D$16*D7)+($E$16*E7)+($F$16*F7),0) -> 6 | I7: =IF(C7=$C$17,2,1)*IF($G$17=1,($D$17*D7)+($E$17*E7)+($F$17*F7),0) -> 9 | J7: =IF(C7=$C$18,2,1)*IF($G$18=1,($D$18*D7)+($E$18*E7)+($F$18*F7),0) -> 5 | K7: =IF(C7=$C$19,2,1)*IF($G$19=1,($D$19*D7)+($E$19*E7)+($F$19*F7),0) -> 8 | L7: =IF(C7=$C$20,2,1)*IF($G$20=1,($D$20*D7)+($E$20*E7)+($F$20*F7),0) -> 9 | M7: =IF(C7=$C$21,2,1)*IF($G$21=1,($D$21*D7)+($E$21*E7)+($F$21*F7),0) -> 10 | N7: =IF(C7=$C$22,2,1)*IF($G$22=1,($D$22*D7)+($E$22*E7)+($F$22*F7),0) -> 12 | O7: =IF(C7=$C$23,2,1)*IF($G$23=1,($D$23*D7)+($E$23*E7)+($F$23*F7),0) -> 12 | P7: =IF(C7=$C$24,2,1)*IF($G$24=1,($D$24*D7)+($E$24*E7)+($F$24*F7),0) -> 18 | Q7: =IF(C7=$C$25,2,1)*IF($G$25=1,($D$25*D7)+($E$25*E7)+($F$25*F7),0) -> 12 | R7: =IF(C7=$C$26,2,1)*IF($G$26=1,($D$26*D7)+($E$26*E7)+($F$26*F7),0) -> 6 | S7: =IF(C7=$C$27,2,1)*IF($G$27=1,($D$27*D7)+($E$27*E7)+($F$27*F7),0) -> 7 | T7: =IF(C7=$C$28,2,1)*IF($G$28=1,($D$28*D7)+($E$28*E7)+($F$28*F7),0) -> 5 | U7: =IF(C7=$C$29,2,1)*IF($G$29=1,($D$29*D7)+($E$29*E7)+($F$29*F7),0) -> 9 | V7: =IF(C7=$C$30,2,1)*IF($G$30=1,($D$30*D7)+($E$30*E7)+($F$30*F7),0) -> 3 | W7: =IF(C7=$C$31,2,1)*IF($G$31=1,($D$31*D7)+($E$31*E7)+($F$31*F7),0) -> 6 | X7: =IF(C7=$C36,2,1)*IF($G$32=1,($D$32*D7)+($E$32*E7)+($F$32*F7),0) -> 3 | Y7: =SUM(G7:X7) -> 147 | Z7: =(Y7/147)*100 -> 100
B8: SCHARPHOUSE | C8: Inland | D8: 1 | E8: 4 | F8: 1 | G8: =IF(C8=$C$15,2,1)*(IF($G$15=1,($D$15*D8)+($E$15*E8)+($F$15*F8),0)) -> 9 | H8: =IF(C8=$C$16,2,1)*IF($G$16=1,($D$16*D8)+($E$16*E8)+($F$16*F8),0) -> 12 | I8: =IF(C8=$C$17,2,1)*IF($G$17=1,($D$17*D8)+($E$17*E8)+($F$17*F8),0) -> 3 | J8: =IF(C8=$C$18,2,1)*IF($G$18=1,($D$18*D8)+($E$18*E8)+($F$18*F8),0) -> 3 | K8: =IF(C8=$C$19,2,1)*IF($G$19=1,($D$19*D8)+($E$19*E8)+($F$19*F8),0) -> 6 | L8: =IF(C8=$C$20,2,1)*IF($G$20=1,($D$20*D8)+($E$20*E8)+($F$20*F8),0) -> 3 | M8: =IF(C8=$C$21,2,1)*IF($G$21=1,($D$21*D8)+($E$21*E8)+($F$21*F8),0) -> 6 | N8: =IF(C8=$C$22,2,1)*IF($G$22=1,($D$22*D8)+($E$22*E8)+($F$22*F8),0) -> 24 | O8: =IF(C8=$C$23,2,1)*IF($G$23=1,($D$23*D8)+($E$23*E8)+($F$23*F8),0) -> 24 | P8: =IF(C8=$C$24,2,1)*IF($G$24=1,($D$24*D8)+($E$24*E8)+($F$24*F8),0) -> 6 | Q8: =IF(C8=$C$25,2,1)*IF($G$25=1,($D$25*D8)+($E$25*E8)+($F$25*F8),0) -> 24 | R8: =IF(C8=$C$26,2,1)*IF($G$26=1,($D$26*D8)+($E$26*E8)+($F$26*F8),0) -> 6 | S8: =IF(C8=$C$27,2,1)*IF($G$27=1,($D$27*D8)+($E$27*E8)+($F$27*F8),0) -> 9 | T8: =IF(C8=$C$28,2,1)*IF($G$28=1,($D$28*D8)+($E$28*E8)+($F$28*F8),0) -> 3 | U8: =IF(C8=$C$29,2,1)*IF($G$29=1,($D$29*D8)+($E$29*E8)+($F$29*F8),0) -> 3 | V8: =IF(C8=$C$30,2,1)*IF($G$30=1,($D$30*D8)+($E$30*E8)+($F$30*F8),0) -> 3 | W8: =IF(C8=$C$31,2,1)*IF($G$31=1,($D$31*D8)+($E$31*E8)+($F$31*F8),0) -> 12 | X8: =IF(C8=$C37,2,1)*IF($G$32=1,($D$32*D8)+($E$32*E8)+($F$32*F8),0) -> 3 | Y8: =SUM(G8:X8) -> 159 | Z8: =(Y8/159)*100 -> 100
B9: JAMBA | C9: Inland | D9: 2 | E9: 3 | F9: 1 | G9: =IF(C9=$C$15,2,1)*(IF($G$15=1,($D$15*D9)+($E$15*E9)+($F$15*F9),0)) -> 8 | H9: =IF(C9=$C$16,2,1)*IF($G$16=1,($D$16*D9)+($E$16*E9)+($F$16*F9),0) -> 9 | I9: =IF(C9=$C$17,2,1)*IF($G$17=1,($D$17*D9)+($E$17*E9)+($F$17*F9),0) -> 6 | J9: =IF(C9=$C$18,2,1)*IF($G$18=1,($D$18*D9)+($E$18*E9)+($F$18*F9),0) -> 4 | K9: =IF(C9=$C$19,2,1)*IF($G$19=1,($D$19*D9)+($E$19*E9)+($F$19*F9),0) -> 7 | L9: =IF(C9=$C$20,2,1)*IF($G$20=1,($D$20*D9)+($E$20*E9)+($F$20*F9),0) -> 6 | M9: =IF(C9=$C$21,2,1)*IF($G$21=1,($D$21*D9)+($E$21*E9)+($F$21*F9),0) -> 8 | N9: =IF(C9=$C$22,2,1)*IF($G$22=1,($D$22*D9)+($E$22*E9)+($F$22*F9),0) -> 18 | O9: =IF(C9=$C$23,2,1)*IF($G$23=1,($D$23*D9)+($E$23*E9)+($F$23*F9),0) -> 18 | P9: =IF(C9=$C$24,2,1)*IF($G$24=1,($D$24*D9)+($E$24*E9)+($F$24*F9),0) -> 12 | Q9: =IF(C9=$C$25,2,1)*IF($G$25=1,($D$25*D9)+($E$25*E9)+($F$25*F9),0) -> 18 | R9: =IF(C9=$C$26,2,1)*IF($G$26=1,($D$26*D9)+($E$26*E9)+($F$26*F9),0) -> 6 | S9: =IF(C9=$C$27,2,1)*IF($G$27=1,($D$27*D9)+($E$27*E9)+($F$27*F9),0) -> 8 | T9: =IF(C9=$C$28,2,1)*IF($G$28=1,($D$28*D9)+($E$28*E9)+($F$28*F9),0) -> 4 | U9: =IF(C9=$C$29,2,1)*IF($G$29=1,($D$29*D9)+($E$29*E9)+($F$29*F9),0) -> 6 | V9: =IF(C9=$C$30,2,1)*IF($G$30=1,($D$30*D9)+($E$30*E9)+($F$30*F9),0) -> 3 | W9: =IF(C9=$C$31,2,1)*IF($G$31=1,($D$31*D9)+($E$31*E9)+($F$31*F9),0) -> 9 | X9: =IF(C9=$C38,2,1)*IF($G$32=1,($D$32*D9)+($E$32*E9)+($F$32*F9),0) -> 3 | Y9: =SUM(G9:X9) -> 153 | Z9: =(Y9/153)*100 -> 100
B10: CUSTOMS | C10: Port | D10: 3 | E10: 3 | F10: 0 | G10: =IF(C10=$C$15,2,1)*(IF($G$15=1,($D$15*D10)+($E$15*E10)+($F$15*F10),0)) -> 9 | H10: =IF(C10=$C$16,2,1)*IF($G$16=1,($D$16*D10)+($E$16*E10)+($F$16*F10),0) -> 9 | I10: =IF(C10=$C$17,2,1)*IF($G$17=1,($D$17*D10)+($E$17*E10)+($F$17*F10),0) -> 9 | J10: =IF(C10=$C$18,2,1)*IF($G$18=1,($D$18*D10)+($E$18*E10)+($F$18*F10),0) -> 3 | K10: =IF(C10=$C$19,2,1)*IF($G$19=1,($D$19*D10)+($E$19*E10)+($F$19*F10),0) -> 9 | L10: =IF(C10=$C$20,2,1)*IF($G$20=1,($D$20*D10)+($E$20*E10)+($F$20*F10),0) -> 9 | M10: =IF(C10=$C$21,2,1)*IF($G$21=1,($D$21*D10)+($E$21*E10)+($F$21*F10),0) -> 3 | N10: =IF(C10=$C$22,2,1)*IF($G$22=1,($D$22*D10)+($E$22*E10)+($F$22*F10),0) -> 9 | O10: =IF(C10=$C$23,2,1)*IF($G$23=1,($D$23*D10)+($E$23*E10)+($F$23*F10),0) -> 9 | P10: =IF(C10=$C$24,2,1)*IF($G$24=1,($D$24*D10)+($E$24*E10)+($F$24*F10),0) -> 9 | Q10: =IF(C10=$C$25,2,1)*IF($G$25=1,($D$25*D10)+($E$25*E10)+($F$25*F10),0) -> 9 | R10: =IF(C10=$C$26,2,1)*IF($G$26=1,($D$26*D10)+($E$26*E10)+($F$26*F10),0) -> 0 | S10: =IF(C10=$C$27,2,1)*IF($G$27=1,($D$27*D10)+($E$27*E10)+($F$27*F10),0) -> 18 | T10: =IF(C10=$C$28,2,1)*IF($G$28=1,($D$28*D10)+($E$28*E10)+($F$28*F10),0) -> 6 | U10: =IF(C10=$C$29,2,1)*IF($G$29=1,($D$29*D10)+($E$29*E10)+($F$29*F10),0) -> 18 | V10: =IF(C10=$C$30,2,1)*IF($G$30=1,($D$30*D10)+($E$30*E10)+($F$30*F10),0) -> 0 | W10: =IF(C10=$C$31,2,1)*IF($G$31=1,($D$31*D10)+($E$31*E10)+($F$31*F10),0) -> 18 | X10: =IF(C10=$C39,2,1)*IF($G$32=1,($D$32*D10)+($E$32*E10)+($F$32*F10),0) -> 0 | Y10: =SUM(G10:X10) -> 147 | Z10: =(Y10/147)*100 -> 100
B11: BAERSK | C11: Port | D11: 4 | E11: 1 | F11: 1 | G11: =IF(C11=$C$15,2,1)*(IF($G$15=1,($D$15*D11)+($E$15*E11)+($F$15*F11),0)) -> 6 | H11: =IF(C11=$C$16,2,1)*IF($G$16=1,($D$16*D11)+($E$16*E11)+($F$16*F11),0) -> 3 | I11: =IF(C11=$C$17,2,1)*IF($G$17=1,($D$17*D11)+($E$17*E11)+($F$17*F11),0) -> 12 | J11: =IF(C11=$C$18,2,1)*IF($G$18=1,($D$18*D11)+($E$18*E11)+($F$18*F11),0) -> 6 | K11: =IF(C11=$C$19,2,1)*IF($G$19=1,($D$19*D11)+($E$19*E11)+($F$19*F11),0) -> 9 | L11: =IF(C11=$C$20,2,1)*IF($G$20=1,($D$20*D11)+($E$20*E11)+($F$20*F11),0) -> 12 | M11: =IF(C11=$C$21,2,1)*IF($G$21=1,($D$21*D11)+($E$21*E11)+($F$21*F11),0) -> 6 | N11: =IF(C11=$C$22,2,1)*IF($G$22=1,($D$22*D11)+($E$22*E11)+($F$22*F11),0) -> 3 | O11: =IF(C11=$C$23,2,1)*IF($G$23=1,($D$23*D11)+($E$23*E11)+($F$23*F11),0) -> 3 | P11: =IF(C11=$C$24,2,1)*IF($G$24=1,($D$24*D11)+($E$24*E11)+($F$24*F11),0) -> 12 | Q11: =IF(C11=$C$25,2,1)*IF($G$25=1,($D$25*D11)+($E$25*E11)+($F$25*F11),0) -> 3 | R11: =IF(C11=$C$26,2,1)*IF($G$26=1,($D$26*D11)+($E$26*E11)+($F$26*F11),0) -> 3 | S11: =IF(C11=$C$27,2,1)*IF($G$27=1,($D$27*D11)+($E$27*E11)+($F$27*F11),0) -> 12 | T11: =IF(C11=$C$28,2,1)*IF($G$28=1,($D$28*D11)+($E$28*E11)+($F$28*F11),0) -> 12 | U11: =IF(C11=$C$29,2,1)*IF($G$29=1,($D$29*D11)+($E$29*E11)+($F$29*F11),0) -> 24 | V11: =IF(C11=$C$30,2,1)*IF($G$30=1,($D$30*D11)+($E$30*E11)+($F$30*F11),0) -> 6 | W11: =IF(C11=$C$31,2,1)*IF($G$31=1,($D$31*D11)+($E$31*E11)+($F$31*F11),0) -> 6 | X11: =IF(C11=$C40,2,1)*IF($G$32=1,($D$32*D11)+($E$32*E11)+($F$32*F11),0) -> 3 | Y11: =SUM(G11:X11) -> 141 | Z11: =(Y11/141)*100 -> 100
B12: WCT | C12: Port | D12: 1 | E12: 2 | F12: 3 | G12: =IF(C12=$C$15,2,1)*(IF($G$15=1,($D$15*D12)+($E$15*E12)+($F$15*F12),0)) -> 5 | H12: =IF(C12=$C$16,2,1)*IF($G$16=1,($D$16*D12)+($E$16*E12)+($F$16*F12),0) -> 6 | I12: =IF(C12=$C$17,2,1)*IF($G$17=1,($D$17*D12)+($E$17*E12)+($F$17*F12),0) -> 3 | J12: =IF(C12=$C$18,2,1)*IF($G$18=1,($D$18*D12)+($E$18*E12)+($F$18*F12),0) -> 7 | K12: =IF(C12=$C$19,2,1)*IF($G$19=1,($D$19*D12)+($E$19*E12)+($F$19*F12),0) -> 4 | L12: =IF(C12=$C$20,2,1)*IF($G$20=1,($D$20*D12)+($E$20*E12)+($F$20*F12),0) -> 3 | M12: =IF(C12=$C$21,2,1)*IF($G$21=1,($D$21*D12)+($E$21*E12)+($F$21*F12),0) -> 7 | N12: =IF(C12=$C$22,2,1)*IF($G$22=1,($D$22*D12)+($E$22*E12)+($F$22*F12),0) -> 6 | O12: =IF(C12=$C$23,2,1)*IF($G$23=1,($D$23*D12)+($E$23*E12)+($F$23*F12),0) -> 6 | P12: =IF(C12=$C$24,2,1)*IF($G$24=1,($D$24*D12)+($E$24*E12)+($F$24*F12),0) -> 3 | Q12: =IF(C12=$C$25,2,1)*IF($G$25=1,($D$25*D12)+($E$25*E12)+($F$25*F12),0) -> 6 | R12: =IF(C12=$C$26,2,1)*IF($G$26=1,($D$26*D12)+($E$26*E12)+($F$26*F12),0) -> 9 | S12: =IF(C12=$C$27,2,1)*IF($G$27=1,($D$27*D12)+($E$27*E12)+($F$27*F12),0) -> 10 | T12: =IF(C12=$C$28,2,1)*IF($G$28=1,($D$28*D12)+($E$28*E12)+($F$28*F12),0) -> 14 | U12: =IF(C12=$C$29,2,1)*IF($G$29=1,($D$29*D12)+($E$29*E12)+($F$29*F12),0) -> 6 | V12: =IF(C12=$C$30,2,1)*IF($G$30=1,($D$30*D12)+($E$30*E12)+($F$30*F12),0) -> 18 | W12: =IF(C12=$C$31,2,1)*IF($G$31=1,($D$31*D12)+($E$31*E12)+($F$31*F12),0) -> 12 | X12: =IF(C12=$C41,2,1)*IF($G$32=1,($D$32*D12)+($E$32*E12)+($F$32*F12),0) -> 9 | Y12: =SUM(G12:X12) -> 134 | Z12: =(Y12/134)*100 -> 100
B14: Bottleneck | C14: Where | D14: Efficiency | E14: Sustainability | F14: Digital | G14: 0/1
B15: B1 | C15: Corridor | D15: 1 | E15: 2 | F15: 0 | G15: ='Use for game!'!G15 -> 1
B16: B2 | C16: Corridor | D16: 0 | E16: 3 | F16: 0 | G16: ='Use for game!'!G16 -> 1
B17: B3 | C17: Corridor | D17: 3 | E17: 0 | F17: 0 | G17: ='Use for game!'!G17 -> 1
B18: B4 | C18: Corridor | D18: 1 | E18: 0 | F18: 2 | G18: ='Use for game!'!G18 -> 1
B19: B5 | C19: Corridor | D19: 2 | E19: 1 | F19: 0 | G19: ='Use for game!'!G19 -> 1
B20: B6 | C20: Corridor | D20: 3 | E20: 0 | F20: 0 | G20: ='Use for game!'!G20 -> 1
B21: B9 | C21: Inland | D21: 1 | E21: 0 | F21: 2 | G21: ='Use for game!'!G21 -> 1
B22: B10 | C22: Inland | D22: 0 | E22: 3 | F22: 0 | G22: ='Use for game!'!G22 -> 1
B23: B11 | C23: Inland | D23: 0 | E23: 3 | F23: 0 | G23: ='Use for game!'!G23 -> 1
B24: B12 | C24: Inland | D24: 3 | E24: 0 | F24: 0 | G24: ='Use for game!'!G24 -> 1
B25: B13 | C25: Inland | D25: 0 | E25: 3 | F25: 0 | G25: ='Use for game!'!G25 -> 1
B26: B14 | C26: Inland | D26: 0 | E26: 0 | F26: 3 | G26: ='Use for game!'!G26 -> 1
... B32: B21 | C32: Port | D32: 0 | E32: 0 | F32: 3 | G32: ='Use for game!'!G32 -> 1

Sheet Use for game!
B2: Name | C2: Where | D2: Efficiency | E2: Sustainability | F2: Digital | G2: Final score
B3: SLAGER Group Logistiek | C3: Corridor | D3: 2 | E3: 3 | F3: 1 | G3: ='Complete sheet calculation'!Z3 -> 100
B4: HDL | C4: Corridor | D4: 2 | E4: 3 | F4: 1 | G4: ='Complete sheet calculation'!Z4 -> 100
B5: COLD RAIL | C5: Corridor | D5: 1 | E5: 4 | F5: 1 | G5: ='Complete sheet calculation'!Z5 -> 100
B6: CONTIGO | C6: Corridor | D6: 3 | E6: 2 | F6: 1 | G6: ='Complete sheet calculation'!Z6 -> 100
B7: SLOGRI Food | C7: Inland | D7: 3 | E7: 2 | F7: 1 | G7: ='Complete sheet calculation'!Z7 -> 100
B8: SCHARPHOUSE | C8: Inland | D8: 1 | E8: 4 | F8: 1 | G8: ='Complete sheet calculation'!Z8 -> 100
B9: JAMBA | C9: Inland | D9: 2 | E9: 3 | F9: 1 | G9: ='Complete sheet calculation'!Z9 -> 100
B10: CUSTOMS | C10: Port | D10: 3 | E10: 3 | F10: 0 | G10: ='Complete sheet calculation'!Z10 -> 100
B11: BAERSK | C11: Port | D11: 4 | E11: 1 | F11: 1 | G11: ='Complete sheet calculation'!Z11 -> 100
B12: WCT | C12: Port | D12: 1 | E12: 2 | F12: 3 | G12: ='Complete sheet calculation'!Z12 -> 100
B14: Bottleneck | C14: Where | D14: Efficiency | E14: Sustainability | F14: Digital | G14: 0/1
B15: B1 | C15: Corridor | D15: 1 | E15: 2 | F15: 0 | G15: 1
B16: B2 | C16: Corridor | D16: 0 | E16: 3 | F16: 0 | G16: 1
B17: B3 | C17: Corridor | D17: 3 | E17: 0 | F17: 0 | G17: 1
B18: B4 | C18: Corridor | D18: 1 | E18: 0 | F18: 2 | G18: 1
B19: B5 | C19: Corridor | D19: 2 | E19: 1 | F19: 0 | G19: 1
B20: B6 | C20: Corridor | D20: 3 | E20: 0 | F20: 0 | G20: 1
B21: B9 | C21: Inland | D21: 1 | E21: 0 | F21: 2 | G21: 1
B22: B10 | C22: Inland | D22: 0 | E22: 3 | F22: 0 | G22: 1
B23: B11 | C23: Inland | D23: 0 | E23: 3 | F23: 0 | G23: 1
B24: B12 | C24: Inland | D24: 3 | E24: 0 | F24: 0 | G24: 1
B25: B13 | C25: Inland | D25: 0 | E25: 3 | F25: 0 | G25: 1
B26: B14 | C26: Inland | D26: 0 | E26: 0 | F26: 3 | G26: 1
... B32: B21 | C32: Port | D32: 0 | E32: 0 | F32: 3 | G32: 1
